BEGIN:VCALENDAR
VERSION:2.0
PRODID:https://github.com/derhansen/sf_event_mgt
METHOD:PUBLISH
BEGIN:VEVENT
UID:37-4@www.engel.rest
CLASS: PUBLIC
SUMMARY:1. August 2020 «Der Brunch» mit musikalischer Unterhaltung
DESCRIPTION:Wir freuen uns Euch am Samstag den 1. August 2020 zum Brunch be
 grüssen zu dürfen.\n\nWas erwatet euch? - musikalische Unterhaltung - diver
 se kalte und warme Speisen aus der Region - Produkte von lokalen Lieferante
 n - Cervelat bräteln am Feuer\n\nPreise: - Kinder bis 12 Jahre Fr. 1.00 pro
  Altersjahr - Jugentliche von 12 bis 16 Jahren Fr. 25.00 - Erwachsene Fr. 3
 8.00\n\nEssenzeit: 10.00 Uhr - 14.00 Uhr\n\nAnmeldung erwünscht unter: Rest
 aurant Engel Degersheimerstrasse 76 9100 Herisau Telefon: 071 351 18 77\n\n
 info@engel.rest\n\n\n\nNach dem Brunch ist unser Restaurant geöffnet bis 17
 .00 Uhr.
DTSTAMP:20211022T170720Z
DTSTART:20200801T100000Z
DTEND:20200801T140000Z
END:VEVENT
END:VCALENDAR
