BEGIN:VCALENDAR
VERSION:2.0
PRODID:https://github.com/derhansen/sf_event_mgt
METHOD:PUBLISH
BEGIN:VEVENT
UID:42-4@www.engel.rest
CLASS: PUBLIC
SUMMARY:1. August 2021 «Der Brunch» mit musikalischer Unterhaltung
DESCRIPTION:Wir freuen uns Euch am Sonntag den 1. August 2021 zum Brunch be
 grüssen zu dürfen.\n\nWas erwartet euch? - musikalische Unterhaltung mit Ha
 nsi und Claudia - diverse kalte und warme Speisen aus der Region - Produkte
  von lokalen Lieferanten\n\nPreise: - Kinder bis 12 Jahre Fr. 1.00 pro Alte
 rsjahr - Jugendliche von 12 bis 16 Jahren Fr. 25.00 - Erwachsene Fr. 38.00\
 n\nEssenzeit: 10.00 Uhr - 14.00 Uhr\n\nAnmeldung erwünscht unter: Restauran
 t Engel Degersheimerstrasse 76 9100 Herisau Telefon: 071 351 18 77\n\ninfo@
 engel.rest\n\n\n\nNach dem Brunch ist unser Restaurant geöffnet bis 17.00 U
 hr.
DTSTAMP:20211022T171507Z
DTSTART:20210801T100000Z
DTEND:20210801T140000Z
END:VEVENT
END:VCALENDAR
