BEGIN:VCALENDAR
VERSION:2.0
PRODID:https://github.com/derhansen/sf_event_mgt
METHOD:PUBLISH
BEGIN:VEVENT
UID:28-4@www.engel.rest
CLASS: PUBLIC
SUMMARY:1. August Brunch mit musikalischer Unterhaltung
DESCRIPTION:Wir freuen uns Euch am Donnerstag den 1. August 2019 zum Brunch
  begrüssen zu dürfen.\n\nPreise: - Kinder bis 12 Jahre Fr. 1.00 pro Altersj
 ahr - Jugentliche von 12 bis 16 Jahren Fr. 25.00 - Erwachsene Fr. 38.00\n\n
 Höhepunkt für Gross und Klein: Sevelat bräteln am Feuer.\n\nAnmeldung erwün
 scht unter: Restaurant Engel Degersheimerstrasse 76 9100 Herisau Telefon: 0
 71 351 18 77\n\ninfo@engel.rest\n\n\n\nNach dem Brunch ist unser Restaurant
  geöffnet bis 17.00 Uhr.
DTSTAMP:20211022T165716Z
DTSTART:20190801T100000Z
DTEND:20190801T140000Z
END:VEVENT
END:VCALENDAR
