BEGIN:VCALENDAR
VERSION:2.0
PRODID:https://github.com/derhansen/sf_event_mgt
METHOD:PUBLISH
BEGIN:VEVENT
UID:5-4@www.engel.rest
CLASS: PUBLIC
SUMMARY:1. Whisky Event im Engel
DESCRIPTION:Zusammen mit dem House of Single Malts veranstalten wir einen e
 xklusiven Whisky-Abend unter dem Motto «Geschmacksspiele».\n\nPreis inkl. W
 hisky, Mineral, Kaffee, und Überaschungsmenu Fr. 115.-  Der 1. Whisky Event
  im Engel ist bereits ausgebucht. Wir können leider keine Reservationen meh
 r entgegen nehmen.  Barbara und Hampi Hitz
DTSTAMP:20211022T160147Z
DTSTART:20180302T190000Z
END:VEVENT
END:VCALENDAR
