BEGIN:VCALENDAR
VERSION:2.0
PRODID:https://github.com/derhansen/sf_event_mgt
METHOD:PUBLISH
BEGIN:VEVENT
UID:17-4@www.engel.rest
CLASS: PUBLIC
SUMMARY:2. Whisky Event im Engel
DESCRIPTION:Zusammen mit dem House of Single Malts veranstalten wir einen e
 xklusiven Whisky-Abend unter dem Motto «Wild and Whiskey». Mit dabei mit ei
 nem Spezialauftritt ist ebenfalls die Firma Villiger.   Preis pro Person in
 klusive Essen, Whiskey, Mineralwasser und einem Kaffee Fr.125.-   Beschränk
 te Platzanzahl, Anmeldung erforderlich unter:   Restaurant Engel Telefon: 0
 71 351 18 77 oder info@engel.rest   Es freuen sich über euren Besuch Barbar
 a und Hampi Hitz mit Team
DTSTAMP:20211022T161304Z
DTSTART:20181019T190000Z
END:VEVENT
END:VCALENDAR
