BEGIN:VCALENDAR
VERSION:2.0
PRODID:https://github.com/derhansen/sf_event_mgt
METHOD:PUBLISH
BEGIN:VEVENT
UID:38-4@www.engel.rest
CLASS: PUBLIC
SUMMARY:Alles rund um Kaffee
DESCRIPTION:Ein Abend für Kaffeeliebhaber mit caffè Don George Gourmetröste
 rei AG aus Untervaz. Verschiedene Kaffeesorten sowie Mixgetränke können aus
 probiert  werden. Dazu kochen wir für euch herzhafte Kaffeegerichte. Ganz n
 ach dem Motto «mit Kaffee kochen bringt Schwung ins Leben».\n\nWeitere Info
 rmationen unter www.dongeorge.ch\n\n\n\nAnmeldung erwünscht unter: Restaura
 nt Engel Degersheimerstrasse 76 9100 Herisau Telefon: 071 351 18 77\n\ninfo
 @engel.rest
DTSTAMP:20211022T170803Z
DTSTART:20200711T170000Z
END:VEVENT
END:VCALENDAR
