BEGIN:VCALENDAR
VERSION:2.0
PRODID:https://github.com/derhansen/sf_event_mgt
METHOD:PUBLISH
BEGIN:VEVENT
UID:54-4@www.engel.rest
CLASS: PUBLIC
SUMMARY:Allgäuer Abend mit original Allgäuer Musik
DESCRIPTION:Wir holen den Hüttenzauber zu uns in den Allgäu-Engel. Geniest 
 ab 18.00 Uhr im Restaurant typische Allgäuer Schmankerl und lasst euch von 
 der original Allgäuer Musik unterhalten.\n\nWir freuen uns auf einen gelung
 enen Abend mit Musik, guter Stimmung und Tanz. Barbara und Hampi Hitz mit T
 eam\n\nAnmeldung erwünscht unter: Restaurant Engel Degersheimerstrasse 76 9
 100 Herisau Telefon: 071 351 18 77\n\ninfo(at)engel.rest\n\n\n\n\n\n
DTSTAMP:20220614T110145Z
DTSTART:20220806T160000Z
DTEND:20220806T200000Z
END:VEVENT
END:VCALENDAR
