BEGIN:VCALENDAR
VERSION:2.0
PRODID:https://github.com/derhansen/sf_event_mgt
METHOD:PUBLISH
BEGIN:VEVENT
UID:24-4@www.engel.rest
CLASS: PUBLIC
SUMMARY:Argentinien - Feriengefühle im Restaurant Engel
DESCRIPTION:Wir sind ausgebucht Herzlichen Dank für die vielen Reservatione
 n!\n\nJeden Samstagabend während den Sommerferien verführen wir Sie kulinar
 isch in ein Ferienland. Am 20. Juli geht es nach Argentinien.\n\nDie argent
 inische Küche ist sowohl von der Küche verschiedener Länder Europas als auc
 h von den geografischen Besonderheiten des Landes beeinflusst.\n\nBesonders
  die weit verbreitete Rinderzucht in der Pampa-Region führte zu einem hohen
  Anteil von Rindfleisch in den Gerichten. Daneben finden sich Gerichte, die
  durch Einwanderer aus Europa nach Argentinien gebracht wurden, insbesonder
 e aus Italien (Pizza, Pasta). Eine eigenständige Küche hat die Region des N
 ordwestens, deren Gerichte sich durch die Basis Mais und Reis, einen stärke
 ren Gebrauch von Gewürzen und eine allgemein pikantere Zubereitungsweise au
 szeichnen.
DTSTAMP:20211022T162647Z
DTSTART:20190720T170000Z
END:VEVENT
END:VCALENDAR
