BEGIN:VCALENDAR
VERSION:2.0
PRODID:https://github.com/derhansen/sf_event_mgt
METHOD:PUBLISH
BEGIN:VEVENT
UID:9-4@www.engel.rest
CLASS: PUBLIC
SUMMARY:Auffahrt
DESCRIPTION:Für durstige und hungrige Auffahrtswanderer und Gäste\n\n 	Haus
 gemachte Gerstensuppe mit Brot 	Würste und Steaks vom Grill 	Frische, hausg
 emachte Salate vom Büffet 	Feine Coupes und Desserts 	Menu auf Empfehlung \
 n\nSchauen Sie vorbei und geniessen Sie gemütliche Stunden im Restaurant En
 gel.\n\nEs freuen sich auf euch Barbara und Hampi Hitz mit Team
DTSTAMP:20211022T160652Z
DTSTART:20180510T100000Z
DTEND:20180510T220000Z
END:VEVENT
END:VCALENDAR
