BEGIN:VCALENDAR
VERSION:2.0
PRODID:https://github.com/derhansen/sf_event_mgt
METHOD:PUBLISH
BEGIN:VEVENT
UID:79-4@www.engel.rest
CLASS: PUBLIC
SUMMARY:BBQ-Abend mit franzzz der Feuerherd
DESCRIPTION:Es wird heiss im Engel! Erlebt einen genussvollen Sommerabend m
 it feinen Spezialitäten vom Grill und guter Gesellschaft. Als Spezialgast d
 ürfen wir franzzz der Feuerherd begrüssen, der live am Grill für euch ein B
 BQ der Extraklasse zubereitet.\n\nFreut euch auf ein vielfältiges Vorspeise
 nbüffet, anschliessend Fisch und Fleisch frisch vom Grill, serviert mit hau
 sgemachten Saucen, sowie einer feinen Gemüse- und Kartoffelbeilage.\n\nZum 
 krönenden Abschluss erwartet euch eine süsse-fruchtige Überraschung.\n\nDas
  ganze Genusserlebnis gibt es zum Pauschalpreis von CHF 80.00 (exkl. Geträn
 ke).\n\nPassend dazu präsentieren wir euch eine exklusive Weinauswahl von M
 arcello d’Antrasti von Marcellino Pane e Vino.\n\nWir freuen uns auf einen 
 stimmungsvollen Abend mit Genuss, Wein und guter Laune! Barbara und Hampi H
 itz mit Team\n\nReservation erforderlich – Platzzahl beschränkt! Anmeldung 
 unter: Restaurant Engel Degersheimerstrasse 76 9100 Herisau Telefon: 071 35
 1 18 77 info@engel.rest
DTSTAMP:20250617T082628Z
DTSTART:20250712T160000Z
END:VEVENT
END:VCALENDAR
