BEGIN:VCALENDAR
VERSION:2.0
PRODID:https://github.com/derhansen/sf_event_mgt
METHOD:PUBLISH
BEGIN:VEVENT
UID:43-4@www.engel.rest
CLASS: PUBLIC
SUMMARY:Cordon-Bleu Wochenende
DESCRIPTION:Herzlich willkommen an unserem Codon-bleu Wochenende:\n\n 	fünf
  verschiedene Cordon-Bleu's 	feine Pommes oder Tomatenmaccaroni 	frische Sa
 late und Gemüse \n\nEssenszeiten Samstag ab 17.00 Uhr Sonntag 11.30 -19.30 
 Uhr\n\nAnmeldung erwünscht unter: Restaurant Engel Degersheimerstrasse 76 9
 100 Herisau Telefon: 071 351 18 77\n\ninfo@engel.rest
DTSTAMP:20211022T171558Z
DTSTART:20210724T170000Z
DTEND:20210725T193000Z
END:VEVENT
END:VCALENDAR
