BEGIN:VCALENDAR
VERSION:2.0
PRODID:https://github.com/derhansen/sf_event_mgt
METHOD:PUBLISH
BEGIN:VEVENT
UID:21-4@www.engel.rest
CLASS: PUBLIC
SUMMARY:Das Herisauer Bloch 2019 zieht am Engel vorbei
DESCRIPTION:Das Herisauer Bloch zieht wieder am Restaurant Engel vorbei. Ko
 mmt vorbei und erlebt diese schöne Tradition. 
DTSTAMP:20211022T161633Z
DTSTART:20190311T153000Z
END:VEVENT
END:VCALENDAR
