BEGIN:VCALENDAR
VERSION:2.0
PRODID:https://github.com/derhansen/sf_event_mgt
METHOD:PUBLISH
BEGIN:VEVENT
UID:36-4@www.engel.rest
CLASS: PUBLIC
SUMMARY:Das Herisauer Bloch 2020 zieht am Engel vorbei
DESCRIPTION:Das Bloch (Grosser Baumstamm) symbolisiert den letzten Stamm, d
 er von der Holzgewinnung zur Winterzeit aus dem Wald gezogen wird. Er soll 
 vom Waldbesitzer seinen fleissigen Arbeitern geschenkt worden sein, welche 
 den Stamm auf einem Wagen nun in einem farbenprächtigen Umzug durch die ang
 renzenden Gemeinden zieht und ihn stolz der Bevölkerung zeigt. Am Abend wir
 d der Stamm vergantet und mit dem Erlös ein Fest für die Blochmannschaft fi
 nanziert. So der Hintergrund diese Brauches. (Quelle: Wikipedia)\n\nAuch di
 eses Jahr ziehen sie mit dem Herisauer-Bloch wieder am Engel vorbei.\n\nIn 
 der warmen Gaststube erwartet sie ein freundlicher Service mit feinen Geträ
 nken und gutem Essen.\n\nKomm vorbei und erlebe diese schöne Tradition!\n\n
 Das Restaurant ist am Nachmittag durchgehend geöffnet!\n\nEs freuen sich au
 f Euch Barbara und Hampi Hitz mit Team.\n\n\n\n\n\n
DTSTAMP:20220204T093927Z
DTSTART:20200302T153000Z
END:VEVENT
END:VCALENDAR
