BEGIN:VCALENDAR
VERSION:2.0
PRODID:https://github.com/derhansen/sf_event_mgt
METHOD:PUBLISH
BEGIN:VEVENT
UID:69-4@www.engel.rest
CLASS: PUBLIC
SUMMARY:Das Herisauer Bloch 2024 zieht am Engel vorbei
DESCRIPTION:Das Bloch (Grosser Baumstamm) symbolisiert den letzten Stamm, d
 er von der Holzgewinnung zur Winterzeit aus dem Wald gezogen wird. Er soll 
 vom Waldbesitzer seinen fleissigen Arbeitern geschenkt worden sein, welche 
 den Stamm auf einem Wagen nun in einem farbenprächtigen Umzug durch die ang
 renzenden Gemeinden zieht und ihn stolz der Bevölkerung zeigt. Am Abend wir
 d der Stamm vergantet und mit dem Erlös ein Fest für die Blochmannschaft fi
 nanziert. So der Hintergrund diese Brauches. (Quelle: Wikipedia)\n\nAuch di
 eses Jahr ziehen sie mit dem Herisauer-Bloch wieder am Engel vorbei.\n\nIn 
 der warmen Gaststube erwartet Euch ein freundlicher Service mit feinen Getr
 änken und gutem Essen.\n\nKomm vorbei und erlebe diese schöne Tradition!\n\
 nDas Restaurant ist am Nachmittag durchgehend geöffnet!\n\nEs freuen sich a
 uf Euch Barbara und Hampi Hitz mit Team.
DTSTAMP:20240212T172743Z
DTSTART:20240219T153000Z
END:VEVENT
END:VCALENDAR
