BEGIN:VCALENDAR
VERSION:2.0
PRODID:https://github.com/derhansen/sf_event_mgt
METHOD:PUBLISH
BEGIN:VEVENT
UID:6-4@www.engel.rest
CLASS: PUBLIC
SUMMARY:Das Herisauer Bloch zieht am Engel vorbei
DESCRIPTION:Das Bloch (Grosser Baumstamm) symbolisiert den letzten Stamm, d
 er von der Holzgewinnung zur Winterzeit aus dem Wald gezogen wird. Er soll 
 vom Waldbesitzer seinen fleissigen Arbeitern geschenkt worden sein, welche 
 den Stamm auf einem Wagen nun in einem farbenprächtigen Umzug durch die ang
 renzenden Gemeinden zieht und ihn stolz der Bevölkerung zeigt. Am Abend wir
 d der Stamm vergantet und mit dem Erlös ein Fest für die Blochmannschaft fi
 nanziert. So der Hintergrund diese Brauches. (Quelle Wikipedia, mehr lesen)
   \n\nUnser Menuplan für den Blochmontag:\n\nMittagsmenu\n\nMehlsuppe Menus
 alat Geräuchter Speck mit Senf Grüne Bohnen Salzkartoffeln\n\nVegimenu\n\nK
 äse/Zwiebelfladen Per Stück\n\nHit\n\n«Spatz» Suppeneintopf mit Siedfleisch
  und viel Gemüse\n\nTraditionelles Süsses\n\n 	Bacheschnitte 	Zigerkrapfen 
 	Berliner \n\n Auf euren Besuch freuen sich Barbara und Hampi Hitz mit Helf
 ern.
DTSTAMP:20211022T160249Z
DTSTART:20180219T153000Z
END:VEVENT
END:VCALENDAR
