BEGIN:VCALENDAR
VERSION:2.0
PRODID:https://github.com/derhansen/sf_event_mgt
METHOD:PUBLISH
BEGIN:VEVENT
UID:4-4@www.engel.rest
CLASS: PUBLIC
SUMMARY:Engel Metzgete
DESCRIPTION:Wir lassen die Engel Metzgete wieder aufleben.\n\nIn Zusammenar
 beit mit der Metzgerei Scheiwiller aus Herisau bieten wir Ihnen traditionel
 le Schweinefleischgerichte an. Es können keine Tischreservationen entgegen 
 genommen werden!\n\nUnsere Essenszeiten:\n\nFreitag    19.1.: 11.00-22.00 U
 hr\n\nSamsatg 20.1:  11.00-22.00 Uhr\n\nSonntag 21.1:   11.00-20.00 Uhr\n\n
 Auf euren Besuch freuen sich Barbara und Hampi Hitz mit Helfern.\n\n\n\n\n\
 n
DTSTAMP:20211025T213132Z
DTSTART:20180119T110000Z
DTEND:20180121T200000Z
END:VEVENT
END:VCALENDAR
