BEGIN:VCALENDAR
VERSION:2.0
PRODID:https://github.com/derhansen/sf_event_mgt
METHOD:PUBLISH
BEGIN:VEVENT
UID:3-4@www.engel.rest
CLASS: PUBLIC
SUMMARY:Eröffnung und Tag der offenen Tür
DESCRIPTION:In unseren neu gestalteten und eingerichteten Räumen erwarten s
 ie kleine Häppchen und feine Getränke. Für fröhliche Stimmung wird Leo „Mun
 di“ Innauen besorgt sein.\n\nWir freuen uns einige unserer Lieferanten Ihne
 n persönlich vorstellen zu können.\n\n„Sind Willkomm, prost und en guete“
DTSTAMP:20211022T155941Z
DTSTART:20171202T110000Z
DTEND:20171202T170000Z
END:VEVENT
END:VCALENDAR
