BEGIN:VCALENDAR
VERSION:2.0
PRODID:https://github.com/derhansen/sf_event_mgt
METHOD:PUBLISH
BEGIN:VEVENT
UID:20-4@www.engel.rest
CLASS: PUBLIC
SUMMARY:Fasnachtsabend (Kappe- und Hutfest)
DESCRIPTION:Fasnachtsabend mit musikalischer Unterhaltung, Guggemusik und t
 raditionellen Fasnachtsgerichten.\n\nZusätzlich stehen typische süsse Fasna
 chtsleckereien für euch bereit.\n\nUm ca. 22.00 Uhr Prämierung der originel
 lsten Kappe oder dem originellsten Hut.\n\nWir freuen uns auf möglichst vie
 le Fasnächtler. Barbara und Hampi Hitz
DTSTAMP:20211022T161506Z
DTSTART:20190301T190000Z
END:VEVENT
END:VCALENDAR
