BEGIN:VCALENDAR
VERSION:2.0
PRODID:https://github.com/derhansen/sf_event_mgt
METHOD:PUBLISH
BEGIN:VEVENT
UID:59-4@www.engel.rest
CLASS: PUBLIC
SUMMARY:Fasnachtsabend unter dem Motto «Flower Power»
DESCRIPTION: 	ab 19.00 Uhr diverse Guggen 	ab 20.00 Uhr Livemusik mit dem «
 Trio Spontan» aus dem Allgäu 	Hits aus den 60er und 70er 	good vibes only 	
 feine Speisen und Getränke passend zur Fasnacht \n\nAlso rein in eure Schla
 ghosen und Fransenwesten. Wir freuen uns auf alle Hippies da draussen.  \n\
 nDownload Flyer
DTSTAMP:20230117T194327Z
DTSTART:20230225T173000Z
DTEND:20230225T220000Z
END:VEVENT
END:VCALENDAR
