BEGIN:VCALENDAR
VERSION:2.0
PRODID:https://github.com/derhansen/sf_event_mgt
METHOD:PUBLISH
BEGIN:VEVENT
UID:50-4@www.engel.rest
CLASS: PUBLIC
SUMMARY:Fasnachtsabend unter dem Motto Gummistiefel
DESCRIPTION:Gemütlicher, ungezwungener Fasnachtsabend unter dem Motto «Gumm
 istiefel». Kreire ein farbenfrohes Outfit zu deinen coolen Gummistiefeln.\n
 \nEs erwartet dich: - Musikalische Unterhaltung  - Guggenmusik - Traditione
 lle Fasnachtsgerichte \n\n... und typische, süsse Fasnachtsleckereien \n\nM
 asken sind herzlich willkommen!\n\nWir freuen uns auf möglichst viele, gut 
 gelaunte Fasnächtler. Barbara und Hampi Hitz mit Team
DTSTAMP:20220127T141147Z
DTSTART:20220305T180000Z
END:VEVENT
END:VCALENDAR
