BEGIN:VCALENDAR
VERSION:2.0
PRODID:https://github.com/derhansen/sf_event_mgt
METHOD:PUBLISH
BEGIN:VEVENT
UID:68-4@www.engel.rest
CLASS: PUBLIC
SUMMARY:Fasnachtsabend unter dem Motto «Schnoderbuebe und Wöschwiiber»
DESCRIPTION:Geniesst ab 19.00 Uhr Live-Musik mit Leo Inauen alias «Mundi» u
 nd mitreissende Guggenmusik.\n\nEs erwartet euch eine kunterbunte Auswahl a
 n tollen Fasnachtsgerichten und feinen Getränken.\n\nWir freuen uns auf ein
 e Menge lustiger, fröhlicher Fasnächtler.\n\nMasken sind herzlich willkomme
 n! Entfaltet eure kreative Seite und sichert euch tolle Preise bei unserer 
 Maskenprämierung!\n\nBarbara und Hampi Hitz mit Team\n\n\n\n
DTSTAMP:20240118T134122Z
DTSTART:20240216T173000Z
END:VEVENT
END:VCALENDAR
