BEGIN:VCALENDAR
VERSION:2.0
PRODID:https://github.com/derhansen/sf_event_mgt
METHOD:PUBLISH
BEGIN:VEVENT
UID:35-4@www.engel.rest
CLASS: PUBLIC
SUMMARY:Fasnachtsabend unter dem Motto Schwarz/Weiss
DESCRIPTION:Gemütlicher, ungezwungener Fasnachtsabend unter dem Motto "Schw
 arz/Weiss"\n\nEs erwatet Sie: - Musikalische Unterhaltung mit "Mundi" Leo I
 nauen aus Eggerstanden - Guggenmusik - Traditionelle Fasnachtsgerichte \n\n
 ... und typische, süsse Fasnachtsleckereien \n\nMasken sind herzlich willko
 mmen!\n\nWir freuen uns auf möglichst viele Fasnächtler. Barbara und Hampi 
 Hitz mit Team
DTSTAMP:20211022T170547Z
DTSTART:20200229T190000Z
END:VEVENT
END:VCALENDAR
