BEGIN:VCALENDAR
VERSION:2.0
PRODID:https://github.com/derhansen/sf_event_mgt
METHOD:PUBLISH
BEGIN:VEVENT
UID:81-4@www.engel.rest
CLASS: PUBLIC
SUMMARY:Ferien-Erinnerungs-Abend
DESCRIPTION:Ein Sommer voller Erinnerungen – und wir bringen ihn nochmals a
 uf den Teller! Freut euch auf einen genussvollen Abend mit feinen kalten, w
 armen und süssen Spezialitäten aus verschiedenen Ferienländern.\n\nOb medit
 erran, orientalisch oder exotisch – wir nehmen euch kulinarisch mit auf ein
 e kleine Weltreise.\n\nDazu servieren wir euch eine passende Weinbegleitung
 , die euch geschmacklich direkt zurück in die Ferien entführt.\n\nLasst euc
 h überraschen und schwelgt mit uns nochmals in sonnigen Urlaubserinnerungen
 .\n\nOb mit Freunden oder zu zweit – dieser Abend lädt zum Geniessen, Zurüc
 klehnen und Erinnern ein.\n\nWir freuen uns auf euch! Barbara und Hampi Hit
 z mit Team\n\nReservation erwünscht unter: Restaurant Engel Degersheimerstr
 asse 76 9100 Herisau Telefon: 071 351 18 77 info@engel.rest
DTSTAMP:20250616T133036Z
DTSTART:20250808T160000Z
END:VEVENT
END:VCALENDAR
