BEGIN:VCALENDAR
VERSION:2.0
PRODID:https://github.com/derhansen/sf_event_mgt
METHOD:PUBLISH
BEGIN:VEVENT
UID:77-4@www.engel.rest
CLASS: PUBLIC
SUMMARY:Forellentage 2025
DESCRIPTION:Vom Montag, den 14. April bis Karfreitag, den 18. April 2025 he
 issen wir euch herzlich zu unseren Forellentagen willkommen! Freut euch auf
  eine Auswahl an frisch zubereiteten Gerichten aus Regenbogenforellen, die 
 mit Liebe zubereitet werden.\n\nIhr habt die Wahl zwischen ganzen Forellen 
 oder filetierten Forellen, die wir direkt für euch zubereiten.\n\nBitte bea
 chtet: Unser Restaurant bleibt von Ostersamstag bis Ostermontag(19. bis 21.
  April 2025) geschlossen. Ab Dienstag, den 22. April, sind wir wieder wie g
 ewohnt für euch da.\n\nWir freuen uns darauf, euch bei unseren Forellentage
 n begrüssen zu dürfen.\n\nMit herzlichen Grüssen, Barbara und Hampi Hitz mi
 t Team
DTSTAMP:20250320T083510Z
DTSTART:20250414T093000Z
DTEND:20250418T180000Z
END:VEVENT
END:VCALENDAR
