BEGIN:VCALENDAR
VERSION:2.0
PRODID:https://github.com/derhansen/sf_event_mgt
METHOD:PUBLISH
BEGIN:VEVENT
UID:14-4@www.engel.rest
CLASS: PUBLIC
SUMMARY:Griechenland - Feriengefühle im Restaurant Engel
DESCRIPTION:Jeden Samstagabend während den Sommerferien verführen wir Sie k
 ulinarisch in ein Ferienland. Am 28. Juli geht es nach Greichenland.\n\nDie
  griechische Küche ist ein Fest für alle, die gern viel Fisch und Fleisch e
 ssen. Beim Familienfest wird da auch schon ein Hammel über dem offenen Feue
 r gebraten. Als Einstimmung gibt es eine grosse Vielfalt an Vorspeisen. Des
 serts wie Kataivi, Baklava oder Joghurt mit Honig machen den orientalischen
  Einfluss in der griechischen Küche deutlich. Gern wird mit Knoblauch, Oliv
 enöl und vielen Kräutern gekocht.
DTSTAMP:20211022T161017Z
DTSTART:20180728T170000Z
END:VEVENT
END:VCALENDAR
