BEGIN:VCALENDAR
VERSION:2.0
PRODID:https://github.com/derhansen/sf_event_mgt
METHOD:PUBLISH
BEGIN:VEVENT
UID:62-4@www.engel.rest
CLASS: PUBLIC
SUMMARY:Unser Grillabend: Frischer Genuss direkt vom Rost
DESCRIPTION:Lange Sommerabende und der Duft von Grillfleisch - gibt es eine
  bessere Kombination? Wir laden Dich herzlich ein zu unserem «Grill-Abend» 
 am Samstag, 29. Juli 2023 ab 18.00 Uhr.\n\nFreue Dich auf saftige Fleisch- 
 und Fischstücke, die auf unseren Gas- und Holzkohlegrills perfekt zubereite
 t werden. Frisch Gegrilltes, blauer Himmel und gute Stimmung – mehr braucht
  es nicht für einen perfekten Sommerabend. Komm vorbei und erlebe es mit un
 s!\n\nOb du Fleischliebhaber oder Fischfan bist, bei unserem speziellen Gri
 llabend kommt jeder auf seine Kosten. Reserviere Deinen Tisch jetzt und sei
  Teil dieses einzigartigen Sommererlebnisses!\n\nWir freuen uns auf Euren B
 esuch. Barbara und Hampi Hitz mit Team\n\nAnmeldung erwünscht unter: Restau
 rant Engel Degersheimerstrasse 76 9100 Herisau Telefon: 071 351 18 77\n\nin
 fo@engel.rest
DTSTAMP:20230531T104158Z
DTSTART:20230729T160000Z
END:VEVENT
END:VCALENDAR
