BEGIN:VCALENDAR
VERSION:2.0
PRODID:https://github.com/derhansen/sf_event_mgt
METHOD:PUBLISH
BEGIN:VEVENT
UID:58-4@www.engel.rest
CLASS: PUBLIC
SUMMARY:Herisauer Schnitzelbank-Abend
DESCRIPTION:Am 23. Februar 2023 findet der traditionelle Schnitzelbankabend
  statt. Diverse Schnitzelbankgruppen präsentieren Ihre Verse im Restaurant 
 Engel Herisau. Zwischen den vorgetragenen Schnitzelbänken gibt es ein feine
 s Nachtessen. \n\nReservationen werden ab dem 12. Januar 8 Uhr telefonisch 
 unter 071 351 18 77 entgegengenommen.\n\nWeitere Informationen: https://www
 .izibizi.ch/schnitzelbankabend/\n\nDownlaod Flyer
DTSTAMP:20230117T180043Z
DTSTART:20230223T170000Z
DTEND:20230223T220000Z
END:VEVENT
END:VCALENDAR
