BEGIN:VCALENDAR
VERSION:2.0
PRODID:https://github.com/derhansen/sf_event_mgt
METHOD:PUBLISH
BEGIN:VEVENT
UID:44-4@www.engel.rest
CLASS: PUBLIC
SUMMARY:Hola Mexiko
DESCRIPTION:Am Samstagabend 7. August 2021 verführen wir Sie kulinarisch na
 ch Mexiko.\n\nDie Küche in Mexiko ist wie das Land selbst: bunt, scharf und
  lebenslustig! Dabei besteht die Küche dieser lateinamerikanischen Nation a
 us viel mehr als der bei uns so bekannten Tex-Mex-Küche.\n\nUralte aztekisc
 he Traditionen und die Essgewohnheiten der spanischen Eroberer vermischen s
 ich zu einem Potpourri kulinarischer Köstlichkeiten.\n\nAnmeldung erwünscht
  unter: Restaurant Engel Degersheimerstrasse 76 9100 Herisau Telefon: 071 3
 51 18 77\n\ninfo@engel.rest
DTSTAMP:20211022T171642Z
DTSTART:20210807T170000Z
END:VEVENT
END:VCALENDAR
