BEGIN:VCALENDAR
VERSION:2.0
PRODID:https://github.com/derhansen/sf_event_mgt
METHOD:PUBLISH
BEGIN:VEVENT
UID:72-4@www.engel.rest
CLASS: PUBLIC
SUMMARY:Holzig und rauchig
DESCRIPTION:Tauche ein in einen Abend voller rauchiger und holziger Genüsse
 ! Geniesse köstliches Fleisch und Fisch frisch vom Holzkohlegrill und aus d
 em Räucherofen.\n\nWir freuen uns, den talentierten Holzschnitzer Patrick W
 olgensinger aus Mosnang bei uns begrüssen zu dürfen. Er wird uns spannende 
 Einblicke in seine faszinierende Arbeit geben.\n\nWir freuen uns auf viele 
 rauch- und holzliebhabende Gäste. Barbara und Hampi Hitz mit Team\n\nAnmeld
 ung erwünscht unter: Restaurant Engel Degersheimerstrasse 76 9100 Herisau T
 elefon: 071 351 18 77\n\ninfo@engel.rest
DTSTAMP:20240620T140248Z
DTSTART:20240803T160000Z
END:VEVENT
END:VCALENDAR
