BEGIN:VCALENDAR
VERSION:2.0
PRODID:https://github.com/derhansen/sf_event_mgt
METHOD:PUBLISH
BEGIN:VEVENT
UID:12-4@www.engel.rest
CLASS: PUBLIC
SUMMARY:Italien - Feriengefühle im Restaurant Engel
DESCRIPTION:Jeden Samstagabend während den Sommerferien verführen wir Sie k
 ulinarisch in ein Ferienland. Am 14. Juli geht es nach Italien.\n\nItalien 
 ist seit jeher gleichbedeutend mit gutem Essen: eine unverwechselbare Explo
 sion von Aromen, Gewürzen und Düften. Die italienische Küche ist weltberühm
 t. Im Unterschied zu anderen Ländern hat in Italien jede einzelne Gemeinde,
  Provinz und Region eine unglaubliche Vielfalt unterschiedlicher Gerichte u
 nd Rezepte zu bieten. 
DTSTAMP:20211022T160843Z
DTSTART:20180714T170000Z
END:VEVENT
END:VCALENDAR
