BEGIN:VCALENDAR
VERSION:2.0
PRODID:https://github.com/derhansen/sf_event_mgt
METHOD:PUBLISH
BEGIN:VEVENT
UID:45-4@www.engel.rest
CLASS: PUBLIC
SUMMARY:Kotelett-Woche
DESCRIPTION:Die Kotelett-Woche im Restaurant Engel in Herisau vom Montag 27
 .9.2021 - Sonntag 3.10.2021.\n\nWir bieten Euch in dieser Woche jeden Mitta
 g ein Kotelett auf dem Aktuellmenu und am Abend eine spezielle Kotelett-Kar
 te an!\n\nEssenszeiten\n\nAm Mittag Montag, Dienstag, Donnerstag und Freita
 g 11.30-13.00 Uhr\n\nAm Abend Montag, Donnerstag, Freitag und Samstag ab 17
 .00 Uhr\n\nAm Sonntag 11.30-20.00 Uhr durchgehend.  Wir freuen uns auf eure
 n Besuch. Barbara und Hampi Hitz mit Team
DTSTAMP:20220614T104454Z
DTSTART:20210927T113000Z
DTEND:20211003T200000Z
END:VEVENT
END:VCALENDAR
