BEGIN:VCALENDAR
VERSION:2.0
PRODID:https://github.com/derhansen/sf_event_mgt
METHOD:PUBLISH
BEGIN:VEVENT
UID:27-4@www.engel.rest
CLASS: PUBLIC
SUMMARY:Kreta - Feriengefühle im Restaurant Engel
DESCRIPTION:Jeden Samstagabend während den Sommerferien verführen wir Sie k
 ulinarisch in ein Ferienland. Am 10. August geht es nach Kreta (Griechenlan
 d).\n\nDie griechische Mittelmeerinsel Kreta ist in kulinarischer Hinsicht 
 ein echter Geheimtipp. Neben einer ausgezeichneten Küche mit einzigartigen 
 gehobenen Food-Kreationen und den bekannten griechischen Klassikern, wie ge
 backenem Feta, Souflaki und Moussaka, können Sie auf der Insel eine unvergl
 eichbare und individuelle Geschmacksvielfalt erleben.\n\nDie kretische Küch
 e hebt sich auf ihre ganz eigene Art von der des griechischen Festlandes ab
  und unterscheidet sich auch von den Kochkünsten auf anderen griechischen I
 nseln. Dabei sind die Gerichte um ein Vielfaches bekömmlicher und keinesweg
 s vergleichbar mit den gängigen Menüs griechischer Restaurants.
DTSTAMP:20211022T165634Z
DTSTART:20190810T170000Z
END:VEVENT
END:VCALENDAR
