BEGIN:VCALENDAR
VERSION:2.0
PRODID:https://github.com/derhansen/sf_event_mgt
METHOD:PUBLISH
BEGIN:VEVENT
UID:80-4@www.engel.rest
CLASS: PUBLIC
SUMMARY:Kulinarisch-Musikalischer Abend mit DJ Blatti
DESCRIPTION:Lasst den Alltag hinter euch und geniesst einen entspannten Som
 merabend mit feinem Essen, guter Musik und tollen Drinks im Engel. Unsere K
 üche verwöhnt euch mit leckeren Gerichten aus der Engelküche, dazu gibt’s e
 rlesene Weine und kühle Sommergetränke.\n\nFür die musikalische Stimmung so
 rgt kein Geringerer als Werner Blatter alias DJ Blatti – mit seinem unverwe
 chselbaren Soundmix bringt er Loungefeeling, Tanzlaune und Partystimmung zu
  uns nach Herisau.\n\nOb ihr das Tanzbein schwingen möchtet oder einfach be
 i guter Musik und feinem Essen die Seele baumeln lasst – dieser Abend wird 
 ein Highlight!\n\nWir freuen uns auf viele hungrige Tänzerinnen und Tänzer 
 – und auf alle, die einfach den Abend geniessen möchten! Barbara und Hampi 
 Hitz mit Team\n\nReservation erwünscht unter: Restaurant Engel Degersheimer
 strasse 76 9100 Herisau Telefon: 071 351 18 77 info@engel.rest  
DTSTAMP:20250616T162920Z
DTSTART:20250726T160000Z
END:VEVENT
END:VCALENDAR
