BEGIN:VCALENDAR
VERSION:2.0
PRODID:https://github.com/derhansen/sf_event_mgt
METHOD:PUBLISH
BEGIN:VEVENT
UID:63-4@www.engel.rest
CLASS: PUBLIC
SUMMARY:Kulinarischer Tanzabend mit Tweralp-Sepp
DESCRIPTION:Lust auf einen Freitagabend mit guter Musik, leckerem Essen und
  einer entspannten Atmosphäre? Dann notiere Dir den 4. August 2023, ab 18.0
 0 Uhr, für unseren «Kulinarischen Tanzabend mit Tweralp-Sepp».\n\nAb 19.00 
 Uhr übernimmt der begabte Tweralp-Sepp das Ruder. Mit über 35 Jahren musika
 lischer Leidenschaft bringt er nicht nur fröhliche Töne, sondern auch Schla
 ger, Volksmusik und ruhige Balladen mit. Egal, ob Du zu den urchigen Tönen 
 schaukelst, Dich bei den ruhigen Balladen entspannst oder einfach nur genie
 sst, es wird für jeden etwas dabei sein.\n\nAlso, lade Deine Freunde oder F
 amilie ein und reserviere jetzt Deinen Tisch. Es erwartet Dich ein Abend, d
 er nicht nur Deinen Bauch, sondern auch Dein Herz erfüllen wird.\n\nWir fre
 uen uns schon darauf, Euch zu sehen! Barbara und Hampi Hitz mit Team  Websi
 te Tweralp-Sepp: http://tweralpsepp.ch\n\nAnmeldung erwünscht unter: Restau
 rant Engel Degersheimerstrasse 76 9100 Herisau Telefon: 071 351 18 77\n\nin
 fo@engel.rest
DTSTAMP:20230531T104152Z
DTSTART:20230804T160000Z
END:VEVENT
END:VCALENDAR
