BEGIN:VCALENDAR
VERSION:2.0
PRODID:https://github.com/derhansen/sf_event_mgt
METHOD:PUBLISH
BEGIN:VEVENT
UID:61-4@www.engel.rest
CLASS: PUBLIC
SUMMARY:Ein Fest für die Sinne: Unser mediterraner Abend
DESCRIPTION:Die heissen Sommertage laden zu lauen Nächten unter freiem Himm
 el ein. Und was könnte da passender sein als eine kulinarische Reise in den
  Süden? Deshalb laden wir Dich herzlich zu unserem ersten Spezialabend des 
 Sommers ein: dem «Mediterranen Abend».\n\nAm Samstag, den 22. Juli 2023, ab
  18.00 Uhr, entführen wir Dich in die sonnigen Gefilde unserer südlichen Mi
 ttelmeerländer. Freu Dich auf eine Auswahl an feinsten Speisen und Getränke
 n, die die Vielfalt und Frische der mediterranen Küche in den Mittelpunkt s
 tellen.\n\nDie mediterrane Küche ist bekannt für ihre Leichtigkeit und Arom
 envielfalt. Dabei liegt der Fokus auf frischen Zutaten und dem «flüssigen G
 old» - dem feinen Olivenöl, das in zahlreichen unserer Gerichte zum Einsatz
  kommt, um das wahre mediterrane Flair zu vermitteln.\n\nFreu Dich auf eine
 n unvergesslichen Abend, an dem wir die mediterrane Küche feiern. Bei schön
 em Wetter begrüssen wir Euch in unserem Garten, um das mediterrane Flair vo
 llends zu geniessen. Reserviere Deinen Tisch jetzt und verpasse nicht diese
 n kulinarischen Höhepunkt!\n\nWir freuen uns auf Euren Besuch. Barbara und 
 Hampi Hitz mit Team\n\nAnmeldung erwünscht unter: Restaurant Engel Degershe
 imerstrasse 76 9100 Herisau Telefon: 071 351 18 77\n\ninfo@engel.rest
DTSTAMP:20230531T104549Z
DTSTART:20230722T160000Z
END:VEVENT
END:VCALENDAR
