BEGIN:VCALENDAR
VERSION:2.0
PRODID:https://github.com/derhansen/sf_event_mgt
METHOD:PUBLISH
BEGIN:VEVENT
UID:34-4@www.engel.rest
CLASS: PUBLIC
SUMMARY:Metzgete im Engel 2020
DESCRIPTION:In Zusammenarbeit mit der Metzgerei Scheiwiller aus Herisau bie
 ten wir Ihnen traditionelle bis moderne Schweinefleischgerichte an.\n\nVon 
 Donnerstag bis Samstag können keine Tischreservationen entgegengenommen wer
 den!\n\nAm Sonntag 26.1 2020 findet zum ersten mal das Metzgete-Büffet stat
 t. \n\nAm Sonntag können sie für max. 3 Std. einen Tisch reservieren!  \n\n
 Unsere Essenszeiten: \n\nDonnerstag 23.01.2020 – 11.00 - 22.00 Uhr\n\nFreit
 ag 24.01.2020 – 11.00 - 22.00 Uhr\n\nSamstag 25.01.2020 – 11.00 - 22.00 Uhr
 \n\nSonntag 26.01.2020– 11.00 - 18.00 Uhr\n\nWir kochen immer durchgehend f
 ür Sie!\n\n\n\nAuf euren Besuch freuen sich Barbara und Hampi Hitz mit Helf
 ern.
DTSTAMP:20211022T170458Z
DTSTART:20200123T110000Z
DTEND:20200126T180000Z
END:VEVENT
END:VCALENDAR
