BEGIN:VCALENDAR
VERSION:2.0
PRODID:https://github.com/derhansen/sf_event_mgt
METHOD:PUBLISH
BEGIN:VEVENT
UID:47-4@www.engel.rest
CLASS: PUBLIC
SUMMARY:Metzgete im Engel 2022
DESCRIPTION:In Zusammenarbeit mit der Metzgerei Scheiwiller aus Herisau bie
 ten wir Ihnen traditionelle bis moderne Schweinefleischgerichte an.  \n\nUn
 sere Essenszeiten: \n\nDonnerstag 13.01.2022 – 11.30 - 22.00 Uhr Freitag 14
 .01.2022 – 11.30 - 22.00 Uhr Samstag 15.01.2022 – 11.30 - 22.00 Uhr Sonntag
  16.01.2022 – 11.30 - 20.00 Uhr\n\nWährend den oben genannten Zeiten kochen
  wir durchgehend für euch!\n\nAuf euren Besuch freuen sich Barbara und Hamp
 i Hitz mit Helfern.\n\nAm Montag 17.01 und am Dienstag 18.01.2022 bleibt un
 ser Restaurant geschlossen!
DTSTAMP:20220115T011405Z
DTSTART:20220113T110000Z
DTEND:20220116T190000Z
END:VEVENT
END:VCALENDAR
