BEGIN:VCALENDAR
VERSION:2.0
PRODID:https://github.com/derhansen/sf_event_mgt
METHOD:PUBLISH
BEGIN:VEVENT
UID:65-4@www.engel.rest
CLASS: PUBLIC
SUMMARY:Metzgete im Engel 2024
DESCRIPTION:In Zusammenarbeit mit der Metzgerei Scheiwiller aus Herisau bie
 ten wir Ihnen traditionelle bis moderne Schweinefleischgerichte an.  Unsere
  Essenszeiten: \n\n 	 		 			Do. 11.01.2024 			11.30–22.00 Uhr 		 		 			Fr. 
 12.01.2024 			11.30–22.00 Uhr 		 		 			Sa. 13.01.2024 			11.30–22.00 Uhr 		
  		 			So. 14.01.2024 			11.30 bis spätestens 20.00 Uhr* 		 	 \n\n Während 
 den oben genannten Zeiten kochen wir durchgehend für euch!\n\n*Hinweis: Am 
 Sonntagabend kann es sein, dass einige Gerichte ausverkauft sind. Wir werde
 n unser Bestes tun, um eine vielfältige Auswahl bis zum Ende der Essenszeit
 en anzubieten.  Auf euren Besuch freuen sich Barbara und Hampi Hitz mit Hel
 fern.\n\nWir haben nach der Metzgete normal geöffnet!
DTSTAMP:20240112T182124Z
DTSTART:20240111T103000Z
DTEND:20240114T190000Z
END:VEVENT
END:VCALENDAR
