BEGIN:VCALENDAR
VERSION:2.0
PRODID:https://github.com/derhansen/sf_event_mgt
METHOD:PUBLISH
BEGIN:VEVENT
UID:74-4@www.engel.rest
CLASS: PUBLIC
SUMMARY:Metzgete im Engel 2025
DESCRIPTION:In Zusammenarbeit mit der Metzgerei Scheiwiller aus Herisau bie
 ten wir Ihnen traditionelle bis moderne Schweinefleischgerichte an.  Unsere
  Essenszeiten: \n\n 	 		 			Do. 09.01.2025 			11.30–22.00 Uhr 		 		 			Fr. 
 10.01.2025 			11.30–22.00 Uhr 		 		 			Sa. 11.01.2025 			11.30–22.00 Uhr 		
  		 			So. 12.01.2025 			11.30 bis spätestens 20.00 Uhr* 		 	 \n\n Während 
 den oben genannten Zeiten kochen wir durchgehend für euch.\n\n*Hinweis: Am 
 Sonntagabend kann es sein, dass einige Gerichte ausverkauft sind!  Auf eure
 n Besuch freuen sich Barbara und Hampi Hitz mit Helfern.\n\nWir haben nach 
 der Metzgete normal geöffnet!
DTSTAMP:20240909T152337Z
DTSTART:20250109T103000Z
DTEND:20250112T190000Z
END:VEVENT
END:VCALENDAR
