BEGIN:VCALENDAR
VERSION:2.0
PRODID:https://github.com/derhansen/sf_event_mgt
METHOD:PUBLISH
BEGIN:VEVENT
UID:13-4@www.engel.rest
CLASS: PUBLIC
SUMMARY:Mexiko - Feriengefühle im Restaurant Engel
DESCRIPTION:Jeden Samstagabend während den Sommerferien verführen wir Sie k
 ulinarisch in ein Ferienland. Am 21. Juli geht es nach Mexiko.\n\nDie Küche
  in Mexiko ist wie das Land selbst: bunt, scharf und lebenslustig! Dabei be
 steht die Küche dieser lateinamerikanischen Nation aus viel mehr als der be
 i uns so bekannten Tex-Mex-Küche. Uralte aztekische Traditionen und die Ess
 gewohnheiten der spanischen Eroberer vermischen sich zu einem Potpourri kul
 inarischer Köstlichkeiten.
DTSTAMP:20211022T160927Z
DTSTART:20180721T170000Z
END:VEVENT
END:VCALENDAR
