BEGIN:VCALENDAR
VERSION:2.0
PRODID:https://github.com/derhansen/sf_event_mgt
METHOD:PUBLISH
BEGIN:VEVENT
UID:78-4@www.engel.rest
CLASS: PUBLIC
SUMMARY:Muttertag im Restaurant Engel
DESCRIPTION:Am Muttertag haben wir für euch geöffnet – mit einer feinen Mut
 tertagskarte voller liebevoll ausgewählter Gerichte.\n\nBei schönem Wetter 
 ist auch unser gemütlicher Garten offen – perfekt für ein genussvolles Zmit
 tag, Dessert oder einfach eine schöne Zeit mit euren Liebsten in der Frühli
 ngssonne.\n\nWir freuen uns riesig auf euren Besuch – mit der Familie oder 
 mit eurer Mama.
DTSTAMP:20250501T171128Z
DTSTART:20250511T093000Z
END:VEVENT
END:VCALENDAR
