BEGIN:VCALENDAR
VERSION:2.0
PRODID:https://github.com/derhansen/sf_event_mgt
METHOD:PUBLISH
BEGIN:VEVENT
UID:86-4@www.engel.rest
CLASS: PUBLIC
SUMMARY:Muttertag im Restaurant Engel
DESCRIPTION:Am Sonntag, 10. Mai 2026, haben wir für euch geöffnet und verwö
 hnen euch mit feinen, saisonalen Muttertagsgerichten.\n\nÖffnungszeiten: 10
 .00 – 22.00 Uhr Durchgehend warme Küche: 11.30 – 21.00 Uhr\n\nBei schönem W
 etter ist auch unser gemütlicher Garten offen – perfekt für ein genussvolle
 s Zmittag, ein feines Dessert oder einfach eine schöne Zeit mit euren Liebs
 ten in der Frühlingssonne.\n\nKommt vorbei und lasst euch verwöhnen – wir f
 reuen uns über jeden Besuch. Barbara und Hampi Hitz mit Team
DTSTAMP:20260420T055400Z
DTSTART:20260510T080000Z
DTEND:20260510T200000Z
END:VEVENT
END:VCALENDAR
