BEGIN:VCALENDAR
VERSION:2.0
PRODID:https://github.com/derhansen/sf_event_mgt
METHOD:PUBLISH
BEGIN:VEVENT
UID:23-4@www.engel.rest
CLASS: PUBLIC
SUMMARY:Portugal - Feriengefühle im Restaurant Engel
DESCRIPTION:Jeden Samstagabend während den Sommerferien verführen wir Sie k
 ulinarisch in ein Ferienland. Am 13. Juli geht es nach Portugal.\n\nZur tra
 ditionellen portugiesischen Küche gehören viele der unterschätztesten und l
 eckersten Gerichte der Welt. Sie ist trotz der geringen Grösse des Landes s
 ehr vielfältig: eine eher einfache, aber feine Küche. Die traditionelle Küc
 he basiert auf einer grossen Fisch- und Meeresfrüchtevielfalt, Fleisch, Gem
 üse, Reis und Kartoffeln.
DTSTAMP:20211022T162557Z
DTSTART:20190713T170000Z
END:VEVENT
END:VCALENDAR
