BEGIN:VCALENDAR
VERSION:2.0
PRODID:https://github.com/derhansen/sf_event_mgt
METHOD:PUBLISH
BEGIN:VEVENT
UID:39-4@www.engel.rest
CLASS: PUBLIC
SUMMARY:Rund ums Mittelmeer
DESCRIPTION:Falls ihr dieses Jahr leider nicht zum Mittelmeer fahren könnt,
  bieten wir euch die Mittelmehrküche mit Urlaufsflair bei uns im Engel glei
 ch um die Ecke. \n\nDie Mediterrane Küche ist frisch, bunt, würzig und gesu
 nd. Sie zählt nicht umsonst zu den beliebtesten und besten der Welt.  \n\nA
 nmeldung erwünscht unter: Restaurant Engel Degersheimerstrasse 76 9100 Heri
 sau Telefon: 071 351 18 77\n\ninfo@engel.rest
DTSTAMP:20211022T170839Z
DTSTART:20200718T170000Z
END:VEVENT
END:VCALENDAR
