BEGIN:VCALENDAR
VERSION:2.0
PRODID:https://github.com/derhansen/sf_event_mgt
METHOD:PUBLISH
BEGIN:VEVENT
UID:84-4@www.engel.rest
CLASS: PUBLIC
SUMMARY:Schübligziischtig mit musikalischer Unterhaltung
DESCRIPTION:Nach Zürcher Oberländer Tradition feiern wir am Dienstag, 17. F
 ebruar 2026, den Schübligziischtig.  Ab 18.00 Uhr servieren wir feine Schüb
 lig mit Kartoffelsalat oder Pommes frites. Für die musikalische Unterhaltun
 g sorgt Leo Inauen alias «Mundi».  Auf euren Besuch freuen sich Barbara und
  Hampi Hitz mit Helfern.  Geschichte Der Fasnachtsdienstag wird seit mehr a
 ls 500 Jahren als Schübligziischtig gefeiert. Der Ursprung des traditionell
 en Brauchs liegt darin, dass vor der Fastenzeit, welche am Aschermittwoch b
 eginnt, die Räuchereien geleert werden mussten.
DTSTAMP:20260121T103920Z
DTSTART:20260217T170000Z
END:VEVENT
END:VCALENDAR
