BEGIN:VCALENDAR
VERSION:2.0
PRODID:https://github.com/derhansen/sf_event_mgt
METHOD:PUBLISH
BEGIN:VEVENT
UID:18-4@www.engel.rest
CLASS: PUBLIC
SUMMARY:Silvesterchlausen 2018
DESCRIPTION:Es werden durchgehend traditionelle Speisen und Getränke angebo
 ten. Es können keine Tischreservationen entgegen genommen werden.\n\nAm 1. 
 und 2. Januar 2019 bleibt unser Restaurant geschlossen.
DTSTAMP:20211022T161348Z
DTSTART:20181231T100000Z
END:VEVENT
END:VCALENDAR
