BEGIN:VCALENDAR
VERSION:2.0
PRODID:https://github.com/derhansen/sf_event_mgt
METHOD:PUBLISH
BEGIN:VEVENT
UID:40-4@www.engel.rest
CLASS: PUBLIC
SUMMARY:So vielseitig kann eine Orange sein
DESCRIPTION:Von Fleisch über Salat bis Kuchen: Die Orange fruchtet als Zuta
 t vieler Gerichte.\n\nOrangen sind richtige Vitamin-C-Bomben. Schon ein Gla
 s Orangensaft am Tag deckt unseren Vitamin-C-Bedarf. Doch in Orangen steckt
  noch viel mehr. Aus ihr können unzählige spannende Speisen und Getränke vo
 n süss bis bitter zubereitet werden.\n\n\n\nAnmeldung erwünscht unter: Rest
 aurant Engel Degersheimerstrasse 76 9100 Herisau Telefon: 071 351 18 77\n\n
 info@engel.rest
DTSTAMP:20211022T170912Z
DTSTART:20200725T170000Z
END:VEVENT
END:VCALENDAR
