BEGIN:VCALENDAR
VERSION:2.0
PRODID:https://github.com/derhansen/sf_event_mgt
METHOD:PUBLISH
BEGIN:VEVENT
UID:16-4@www.engel.rest
CLASS: PUBLIC
SUMMARY:Spanien - Feriengefühle im Restaurant Engel
DESCRIPTION:Jeden Samstagabend während den Sommerferien verführen wir Sie k
 ulinarisch in ein Ferienland. Am 11. August geht es nach Spanien.\n\nSpanie
 ns Küche steht für Lebensfreude: Die Nächte in städtischen Tapasbars sind l
 ang, laut, lustig und werden von köstlichen Kleinigkeiten begleitet. Die sp
 anische Regionalküche bietet viele kulinarische Spezialitäten, die sich zu 
 entdecken lohnt.
DTSTAMP:20211022T161208Z
DTSTART:20180811T170000Z
END:VEVENT
END:VCALENDAR
