BEGIN:VCALENDAR
VERSION:2.0
PRODID:https://github.com/derhansen/sf_event_mgt
METHOD:PUBLISH
BEGIN:VEVENT
UID:70-4@www.engel.rest
CLASS: PUBLIC
SUMMARY:Spargelschmaus im Engel
DESCRIPTION:Am Pfingstmontag, dem 20. Mai 2024, laden wir dich herzlich zum
  Spargelschmaus im Engel ein!\n\nVon 11:30 Uhr bis 20:00 Uhr hast du die Ge
 legenheit, eine Vielzahl von kalten und warmen, innovativen Spargelgerichte
 n zu geniessen.\n\nLass dir diese kulinarische Köstlichkeit nicht entgehen 
 und sei Teil eines unvergesslichen Gaumenerlebnisses!\n\nWir freuen uns auf
  viele hungrige Gäste und darauf, dich bei uns begrüssen zu dürfen.\n\nHerz
 liche Grüsse Barbara, Hampi und das gesamte Engel-Team
DTSTAMP:20240419T213735Z
DTSTART:20240520T093000Z
DTEND:20240520T180000Z
END:VEVENT
END:VCALENDAR
