BEGIN:VCALENDAR
VERSION:2.0
PRODID:https://github.com/derhansen/sf_event_mgt
METHOD:PUBLISH
BEGIN:VEVENT
UID:66-4@www.engel.rest
CLASS: PUBLIC
SUMMARY:Steak-Woche
DESCRIPTION:Die Steak-Woche im Restaurant Engel in Herisau vom Montag 30.10
 .2023 - Sonntag 5.11.2023.\n\nWir bieten Euch in dieser Woche jeden Mittag 
 ein Steak auf dem Aktuellmenu und am Abend eine spezielle Steak-Karte an!\n
 \nEssenszeiten\n\nAm Mittag Montag, Dienstag, Donnerstag und Freitag 11.30-
 13.00 Uhr\n\nAm Abend Montag, Donnerstag, Freitag und Samstag ab 17.00 Uhr\
 n\nAm Sonntag 11.30-20.00 Uhr durchgehend.  Wir freuen uns auf euren Besuch
 . Barbara und Hampi Hitz mit Team
DTSTAMP:20231027T132147Z
DTSTART:20231030T103000Z
DTEND:20231105T190000Z
END:VEVENT
END:VCALENDAR
